BEGIN:VCALENDAR
VERSION:2.0
PRODID:-//Energy Research & Innovation Newfoundland & Labrador - ECPv6.15.19//NONSGML v1.0//EN
CALSCALE:GREGORIAN
METHOD:PUBLISH
X-WR-CALNAME:Energy Research & Innovation Newfoundland & Labrador
X-ORIGINAL-URL:https://energyresearchinnovation.ca
X-WR-CALDESC:Events for Energy Research & Innovation Newfoundland & Labrador
REFRESH-INTERVAL;VALUE=DURATION:PT1H
X-Robots-Tag:noindex
X-PUBLISHED-TTL:PT1H
BEGIN:VTIMEZONE
TZID:America/Halifax
BEGIN:DAYLIGHT
TZOFFSETFROM:-0400
TZOFFSETTO:-0300
TZNAME:ADT
DTSTART:20250309T060000
END:DAYLIGHT
BEGIN:STANDARD
TZOFFSETFROM:-0300
TZOFFSETTO:-0400
TZNAME:AST
DTSTART:20251102T050000
END:STANDARD
BEGIN:DAYLIGHT
TZOFFSETFROM:-0400
TZOFFSETTO:-0300
TZNAME:ADT
DTSTART:20260308T060000
END:DAYLIGHT
BEGIN:STANDARD
TZOFFSETFROM:-0300
TZOFFSETTO:-0400
TZNAME:AST
DTSTART:20261101T050000
END:STANDARD
BEGIN:DAYLIGHT
TZOFFSETFROM:-0400
TZOFFSETTO:-0300
TZNAME:ADT
DTSTART:20270314T060000
END:DAYLIGHT
BEGIN:STANDARD
TZOFFSETFROM:-0300
TZOFFSETTO:-0400
TZNAME:AST
DTSTART:20271107T050000
END:STANDARD
END:VTIMEZONE
BEGIN:VEVENT
DTSTART;TZID=America/Halifax:20260916T080000
DTEND;TZID=America/Halifax:20260916T170000
DTSTAMP:20260423T201115
CREATED:20260420T185728Z
LAST-MODIFIED:20260420T185728Z
UID:10000472-1789545600-1789578000@energyresearchinnovation.ca
SUMMARY:Net Zero Atlantic - Atlantic Canada Offshore Wind Readiness Forum 2026
DESCRIPTION:
URL:https://energyresearchinnovation.ca/event/net-zero-atlantic-atlantic-canada-offshore-wind-readiness-forum-2026/
CATEGORIES:External Event
END:VEVENT
END:VCALENDAR