BEGIN:VCALENDAR
VERSION:2.0
PRODID:-//Energy Research & Innovation Newfoundland & Labrador - ECPv6.15.19//NONSGML v1.0//EN
CALSCALE:GREGORIAN
METHOD:PUBLISH
X-WR-CALNAME:Energy Research & Innovation Newfoundland & Labrador
X-ORIGINAL-URL:https://energyresearchinnovation.ca
X-WR-CALDESC:Events for Energy Research & Innovation Newfoundland & Labrador
REFRESH-INTERVAL;VALUE=DURATION:PT1H
X-Robots-Tag:noindex
X-PUBLISHED-TTL:PT1H
BEGIN:VTIMEZONE
TZID:America/St_Johns
BEGIN:DAYLIGHT
TZOFFSETFROM:-0330
TZOFFSETTO:-0230
TZNAME:NDT
DTSTART:20220313T053000
END:DAYLIGHT
BEGIN:STANDARD
TZOFFSETFROM:-0230
TZOFFSETTO:-0330
TZNAME:NST
DTSTART:20221106T043000
END:STANDARD
BEGIN:DAYLIGHT
TZOFFSETFROM:-0330
TZOFFSETTO:-0230
TZNAME:NDT
DTSTART:20230312T053000
END:DAYLIGHT
BEGIN:STANDARD
TZOFFSETFROM:-0230
TZOFFSETTO:-0330
TZNAME:NST
DTSTART:20231105T043000
END:STANDARD
BEGIN:DAYLIGHT
TZOFFSETFROM:-0330
TZOFFSETTO:-0230
TZNAME:NDT
DTSTART:20240310T053000
END:DAYLIGHT
BEGIN:STANDARD
TZOFFSETFROM:-0230
TZOFFSETTO:-0330
TZNAME:NST
DTSTART:20241103T043000
END:STANDARD
END:VTIMEZONE
BEGIN:VEVENT
DTSTART;VALUE=DATE:20230214
DTEND;VALUE=DATE:20230217
DTSTAMP:20260419T094632
CREATED:20230117T203822Z
LAST-MODIFIED:20230117T203822Z
UID:10000228-1676332800-1676591999@energyresearchinnovation.ca
SUMMARY:Ocean Supercluster - Connecting the Ocean Technology Community in the Americas
DESCRIPTION:
URL:https://energyresearchinnovation.ca/event/ocean-supercluster-connecting-the-ocean-technology-community-in-the-americas/
CATEGORIES:External Event
END:VEVENT
BEGIN:VEVENT
DTSTART;TZID=America/St_Johns:20230215T140000
DTEND;TZID=America/St_Johns:20230215T150000
DTSTAMP:20260419T094632
CREATED:20230207T133747Z
LAST-MODIFIED:20230207T133747Z
UID:10000355-1676469600-1676473200@energyresearchinnovation.ca
SUMMARY:Energy NL - CCUS in Offshore Newfoundland and Labrador - A Net Zero Project White Paper - Webinar
DESCRIPTION:
URL:https://energyresearchinnovation.ca/event/energy-nl-ccus-in-offshore-newfoundland-and-labrador-a-net-zero-project-white-paper-webinar/
CATEGORIES:External Event
END:VEVENT
BEGIN:VEVENT
DTSTART;VALUE=DATE:20230217
DTEND;VALUE=DATE:20230220
DTSTAMP:20260419T094632
CREATED:20230117T204041Z
LAST-MODIFIED:20230117T204041Z
UID:10000229-1676592000-1676851199@energyresearchinnovation.ca
SUMMARY:Hack Frost NL - Hackathon 2023
DESCRIPTION:
URL:https://energyresearchinnovation.ca/event/hack-frost-nl-hackathon-2023/
CATEGORIES:External Event
END:VEVENT
BEGIN:VEVENT
DTSTART;VALUE=DATE:20230222
DTEND;VALUE=DATE:20230223
DTSTAMP:20260419T094632
CREATED:20230201T142228Z
LAST-MODIFIED:20230201T142228Z
UID:10000352-1677024000-1677110399@energyresearchinnovation.ca
SUMMARY:Pink Shirt Day - Be Kind & Lift Each Other Up
DESCRIPTION:
URL:https://energyresearchinnovation.ca/event/pink-shirt-day-be-kind-lift-each-other-up/
CATEGORIES:External Event
END:VEVENT
END:VCALENDAR