BEGIN:VCALENDAR
VERSION:2.0
PRODID:-//Energy Research & Innovation Newfoundland & Labrador - ECPv6.15.19//NONSGML v1.0//EN
CALSCALE:GREGORIAN
METHOD:PUBLISH
X-WR-CALNAME:Energy Research & Innovation Newfoundland & Labrador
X-ORIGINAL-URL:https://energyresearchinnovation.ca
X-WR-CALDESC:Events for Energy Research & Innovation Newfoundland & Labrador
REFRESH-INTERVAL;VALUE=DURATION:PT1H
X-Robots-Tag:noindex
X-PUBLISHED-TTL:PT1H
BEGIN:VTIMEZONE
TZID:America/St_Johns
BEGIN:DAYLIGHT
TZOFFSETFROM:-0330
TZOFFSETTO:-0230
TZNAME:NDT
DTSTART:20210314T053000
END:DAYLIGHT
BEGIN:STANDARD
TZOFFSETFROM:-0230
TZOFFSETTO:-0330
TZNAME:NST
DTSTART:20211107T043000
END:STANDARD
BEGIN:DAYLIGHT
TZOFFSETFROM:-0330
TZOFFSETTO:-0230
TZNAME:NDT
DTSTART:20220313T053000
END:DAYLIGHT
BEGIN:STANDARD
TZOFFSETFROM:-0230
TZOFFSETTO:-0330
TZNAME:NST
DTSTART:20221106T043000
END:STANDARD
BEGIN:DAYLIGHT
TZOFFSETFROM:-0330
TZOFFSETTO:-0230
TZNAME:NDT
DTSTART:20230312T053000
END:DAYLIGHT
BEGIN:STANDARD
TZOFFSETFROM:-0230
TZOFFSETTO:-0330
TZNAME:NST
DTSTART:20231105T043000
END:STANDARD
END:VTIMEZONE
BEGIN:VTIMEZONE
TZID:Europe/London
BEGIN:DAYLIGHT
TZOFFSETFROM:+0000
TZOFFSETTO:+0100
TZNAME:BST
DTSTART:20210328T010000
END:DAYLIGHT
BEGIN:STANDARD
TZOFFSETFROM:+0100
TZOFFSETTO:+0000
TZNAME:GMT
DTSTART:20211031T010000
END:STANDARD
BEGIN:DAYLIGHT
TZOFFSETFROM:+0000
TZOFFSETTO:+0100
TZNAME:BST
DTSTART:20220327T010000
END:DAYLIGHT
BEGIN:STANDARD
TZOFFSETFROM:+0100
TZOFFSETTO:+0000
TZNAME:GMT
DTSTART:20221030T010000
END:STANDARD
BEGIN:DAYLIGHT
TZOFFSETFROM:+0000
TZOFFSETTO:+0100
TZNAME:BST
DTSTART:20230326T010000
END:DAYLIGHT
BEGIN:STANDARD
TZOFFSETFROM:+0100
TZOFFSETTO:+0000
TZNAME:GMT
DTSTART:20231029T010000
END:STANDARD
END:VTIMEZONE
BEGIN:VTIMEZONE
TZID:America/Toronto
BEGIN:DAYLIGHT
TZOFFSETFROM:-0500
TZOFFSETTO:-0400
TZNAME:EDT
DTSTART:20210314T070000
END:DAYLIGHT
BEGIN:STANDARD
TZOFFSETFROM:-0400
TZOFFSETTO:-0500
TZNAME:EST
DTSTART:20211107T060000
END:STANDARD
BEGIN:DAYLIGHT
TZOFFSETFROM:-0500
TZOFFSETTO:-0400
TZNAME:EDT
DTSTART:20220313T070000
END:DAYLIGHT
BEGIN:STANDARD
TZOFFSETFROM:-0400
TZOFFSETTO:-0500
TZNAME:EST
DTSTART:20221106T060000
END:STANDARD
BEGIN:DAYLIGHT
TZOFFSETFROM:-0500
TZOFFSETTO:-0400
TZNAME:EDT
DTSTART:20230312T070000
END:DAYLIGHT
BEGIN:STANDARD
TZOFFSETFROM:-0400
TZOFFSETTO:-0500
TZNAME:EST
DTSTART:20231105T060000
END:STANDARD
END:VTIMEZONE
BEGIN:VTIMEZONE
TZID:America/Edmonton
BEGIN:DAYLIGHT
TZOFFSETFROM:-0700
TZOFFSETTO:-0600
TZNAME:MDT
DTSTART:20210314T090000
END:DAYLIGHT
BEGIN:STANDARD
TZOFFSETFROM:-0600
TZOFFSETTO:-0700
TZNAME:MST
DTSTART:20211107T080000
END:STANDARD
BEGIN:DAYLIGHT
TZOFFSETFROM:-0700
TZOFFSETTO:-0600
TZNAME:MDT
DTSTART:20220313T090000
END:DAYLIGHT
BEGIN:STANDARD
TZOFFSETFROM:-0600
TZOFFSETTO:-0700
TZNAME:MST
DTSTART:20221106T080000
END:STANDARD
BEGIN:DAYLIGHT
TZOFFSETFROM:-0700
TZOFFSETTO:-0600
TZNAME:MDT
DTSTART:20230312T090000
END:DAYLIGHT
BEGIN:STANDARD
TZOFFSETFROM:-0600
TZOFFSETTO:-0700
TZNAME:MST
DTSTART:20231105T080000
END:STANDARD
END:VTIMEZONE
BEGIN:VTIMEZONE
TZID:America/Halifax
BEGIN:DAYLIGHT
TZOFFSETFROM:-0400
TZOFFSETTO:-0300
TZNAME:ADT
DTSTART:20210314T060000
END:DAYLIGHT
BEGIN:STANDARD
TZOFFSETFROM:-0300
TZOFFSETTO:-0400
TZNAME:AST
DTSTART:20211107T050000
END:STANDARD
BEGIN:DAYLIGHT
TZOFFSETFROM:-0400
TZOFFSETTO:-0300
TZNAME:ADT
DTSTART:20220313T060000
END:DAYLIGHT
BEGIN:STANDARD
TZOFFSETFROM:-0300
TZOFFSETTO:-0400
TZNAME:AST
DTSTART:20221106T050000
END:STANDARD
BEGIN:DAYLIGHT
TZOFFSETFROM:-0400
TZOFFSETTO:-0300
TZNAME:ADT
DTSTART:20230312T060000
END:DAYLIGHT
BEGIN:STANDARD
TZOFFSETFROM:-0300
TZOFFSETTO:-0400
TZNAME:AST
DTSTART:20231105T050000
END:STANDARD
END:VTIMEZONE
BEGIN:VEVENT
DTSTART;TZID=America/St_Johns:20220829T080000
DTEND;TZID=America/St_Johns:20220901T170000
DTSTAMP:20260419T180305
CREATED:20220530T195204Z
LAST-MODIFIED:20220530T195204Z
UID:10000333-1661760000-1662051600@energyresearchinnovation.ca
SUMMARY:Energy NL - Atlantic Canada Delegation to Offshore Northern Seas 2022 Exhibition and Conference
DESCRIPTION:
URL:https://energyresearchinnovation.ca/event/energy-nl-atlantic-canada-delegation-to-offshore-northern-seas-2022-exhibition-and-conference/
CATEGORIES:External Event
END:VEVENT
BEGIN:VEVENT
DTSTART;TZID=Europe/London:20220901T100000
DTEND;TZID=Europe/London:20220901T110000
DTSTAMP:20260419T180305
CREATED:20220729T173811Z
LAST-MODIFIED:20220729T173811Z
UID:10000217-1662026400-1662030000@energyresearchinnovation.ca
SUMMARY:Net Zero Technology Centre - Begin Your TechX Journey: Everything Start-ups Need to Know
DESCRIPTION:
URL:https://energyresearchinnovation.ca/event/net-zero-technology-centre-begin-your-techx-journey-everything-start-ups-need-to-know-2/
CATEGORIES:External Event
END:VEVENT
BEGIN:VEVENT
DTSTART;TZID=Europe/London:20220906T110000
DTEND;TZID=Europe/London:20220906T133000
DTSTAMP:20260419T180305
CREATED:20220822T195927Z
LAST-MODIFIED:20220822T195927Z
UID:10000349-1662462000-1662471000@energyresearchinnovation.ca
SUMMARY:Net Zero Technology Centre - TechX Clean Energy Accelerator 2022 Open Day
DESCRIPTION:
URL:https://energyresearchinnovation.ca/event/net-zero-technology-centre-techx-clean-energy-accelerator-2022-open-day/
CATEGORIES:External Event
END:VEVENT
BEGIN:VEVENT
DTSTART;TZID=Europe/London:20220907T140000
DTEND;TZID=Europe/London:20220907T150000
DTSTAMP:20260419T180305
CREATED:20220729T173929Z
LAST-MODIFIED:20220729T173929Z
UID:10000218-1662559200-1662562800@energyresearchinnovation.ca
SUMMARY:Net Zero Technology Centre - Begin Your TechX Journey: Everything Start-ups Need to Know
DESCRIPTION:
URL:https://energyresearchinnovation.ca/event/net-zero-technology-centre-begin-your-techx-journey-everything-start-ups-need-to-know-3/
CATEGORIES:External Event
END:VEVENT
BEGIN:VEVENT
DTSTART;VALUE=DATE:20220913
DTEND;VALUE=DATE:20220914
DTSTAMP:20260419T180305
CREATED:20220819T183609Z
LAST-MODIFIED:20220819T184316Z
UID:10000220-1663027200-1663113599@energyresearchinnovation.ca
SUMMARY:Offshore Technology Conference (OTC) 2023 - Abstract Due Date
DESCRIPTION:
URL:https://energyresearchinnovation.ca/event/otc-2023-abstract-due-date/
CATEGORIES:External Event
END:VEVENT
BEGIN:VEVENT
DTSTART;TZID=America/St_Johns:20220913T080000
DTEND;TZID=America/St_Johns:20220913T170000
DTSTAMP:20260419T180305
CREATED:20220729T173018Z
LAST-MODIFIED:20220729T173018Z
UID:10000214-1663056000-1663088400@energyresearchinnovation.ca
SUMMARY:techNL - Digital Oil & Gas Initiative (DOI) Tech Market
DESCRIPTION:
URL:https://energyresearchinnovation.ca/event/technl-digital-oil-gas-initiative-doi-tech-market/
CATEGORIES:External Event
END:VEVENT
BEGIN:VEVENT
DTSTART;TZID=America/Toronto:20220915T130000
DTEND;TZID=America/Toronto:20220915T140000
DTSTAMP:20260419T180305
CREATED:20220822T161021Z
LAST-MODIFIED:20220822T161021Z
UID:10000342-1663246800-1663250400@energyresearchinnovation.ca
SUMMARY:CRA - Webinar on Scientific Research and Experimental Development Tax Incentive Program Website Demo
DESCRIPTION:
URL:https://energyresearchinnovation.ca/event/cra-webinar-on-scientific-research-and-experimental-development-tax-incentive-program-website-demo/
CATEGORIES:External Event
END:VEVENT
BEGIN:VEVENT
DTSTART;TZID=America/Edmonton:20220921T090000
DTEND;TZID=America/Edmonton:20220921T101500
DTSTAMP:20260419T180305
CREATED:20220822T194951Z
LAST-MODIFIED:20220822T194951Z
UID:10000344-1663750800-1663755300@energyresearchinnovation.ca
SUMMARY:CRIN - Money Talks 101: Making Sense of Funding Opportunities for Start Up Tech Companies and Entrepreneurs
DESCRIPTION:
URL:https://energyresearchinnovation.ca/event/crin-money-talks-101-making-sense-of-funding-opportunities-for-start-up-tech-companies-and-entrepreneurs/
CATEGORIES:External Event
END:VEVENT
BEGIN:VEVENT
DTSTART;TZID=America/Edmonton:20220921T090000
DTEND;TZID=America/Edmonton:20220921T120000
DTSTAMP:20260419T180305
CREATED:20220822T194759Z
LAST-MODIFIED:20220822T194759Z
UID:10000343-1663750800-1663761600@energyresearchinnovation.ca
SUMMARY:CRIN\, PTAC and Highwood Emissions Management - Voluntary Emissions Reduction Initiatives Across the Supply Chain
DESCRIPTION:
URL:https://energyresearchinnovation.ca/event/crin-ptac-and-highwood-emissions-management-voluntary-emissions-reduction-initiatives-across-the-supply-chain/
CATEGORIES:External Event
END:VEVENT
BEGIN:VEVENT
DTSTART;TZID=Europe/London:20220922T120000
DTEND;TZID=Europe/London:20220922T130000
DTSTAMP:20260419T180305
CREATED:20220920T151441Z
LAST-MODIFIED:20220920T151441Z
UID:10000222-1663848000-1663851600@energyresearchinnovation.ca
SUMMARY:Net Zero Technology Centre - Tech20: Boosting Sustainability and Financial Performance in Offshore Wind Developments Through AI
DESCRIPTION:
URL:https://energyresearchinnovation.ca/event/net-zero-technology-centre-tech20-boosting-sustainability-and-financial-performance-in-offshore-wind-developments-through-ai/
CATEGORIES:External Event
END:VEVENT
BEGIN:VEVENT
DTSTART;TZID=America/Halifax:20220923T180000
DTEND;TZID=America/Halifax:20220924T173000
DTSTAMP:20260419T180305
CREATED:20220729T163451Z
LAST-MODIFIED:20220920T150133Z
UID:10000213-1663956000-1664040600@energyresearchinnovation.ca
SUMMARY:Marine Affairs Program\, Dalhousie University - Sustainable Ocean Conference 2022 - Dive Deeper
DESCRIPTION:
URL:https://energyresearchinnovation.ca/event/marine-affairs-program-dalhousie-university-sustainable-ocean-conference-2022/
CATEGORIES:External Event
END:VEVENT
BEGIN:VEVENT
DTSTART;TZID=America/St_Johns:20220927T080000
DTEND;TZID=America/St_Johns:20220928T170000
DTSTAMP:20260419T180305
CREATED:20220822T195311Z
LAST-MODIFIED:20220822T195311Z
UID:10000346-1664265600-1664384400@energyresearchinnovation.ca
SUMMARY:Energy NL - 2022 Newfoundland and Labrador CCUS Workshop
DESCRIPTION:
URL:https://energyresearchinnovation.ca/event/energy-nl-2022-newfoundland-and-labrador-ccus-workshop/
CATEGORIES:External Event
END:VEVENT
BEGIN:VEVENT
DTSTART;TZID=America/Edmonton:20220927T103000
DTEND;TZID=America/Edmonton:20220927T123000
DTSTAMP:20260419T180305
CREATED:20220822T195113Z
LAST-MODIFIED:20220822T195113Z
UID:10000345-1664274600-1664281800@energyresearchinnovation.ca
SUMMARY:CRIN - 2022 Annual General Meeting
DESCRIPTION:
URL:https://energyresearchinnovation.ca/event/crin-2022-annual-general-meeting/
CATEGORIES:External Event
END:VEVENT
BEGIN:VEVENT
DTSTART;TZID=America/Halifax:20220928T073000
DTEND;TZID=America/Halifax:20220928T173000
DTSTAMP:20260419T180305
CREATED:20220729T173318Z
LAST-MODIFIED:20220729T173318Z
UID:10000215-1664350200-1664386200@energyresearchinnovation.ca
SUMMARY:Maritimes Energy Association - 2022 C.O.R.E. Conference: Transitioning to Net Zero
DESCRIPTION:
URL:https://energyresearchinnovation.ca/event/maritimes-energy-association-2022-c-o-r-e-conference-transitioning-to-net-zero/
CATEGORIES:External Event
END:VEVENT
BEGIN:VEVENT
DTSTART;TZID=Europe/London:20220930T120000
DTEND;TZID=Europe/London:20220930T130000
DTSTAMP:20260419T180305
CREATED:20220920T151604Z
LAST-MODIFIED:20220920T151604Z
UID:10000223-1664539200-1664542800@energyresearchinnovation.ca
SUMMARY:Net Zero Technology Centre - Tech20: Organic Natural Hydrogen's Role in the Energy Transition
DESCRIPTION:
URL:https://energyresearchinnovation.ca/event/net-zero-technology-centre-tech20-organic-natural-hydrogens-role-in-the-energy-transition/
CATEGORIES:External Event
END:VEVENT
END:VCALENDAR