BEGIN:VCALENDAR
VERSION:2.0
PRODID:-//Energy Research & Innovation Newfoundland & Labrador - ECPv6.15.19//NONSGML v1.0//EN
CALSCALE:GREGORIAN
METHOD:PUBLISH
X-WR-CALNAME:Energy Research & Innovation Newfoundland & Labrador
X-ORIGINAL-URL:https://energyresearchinnovation.ca
X-WR-CALDESC:Events for Energy Research & Innovation Newfoundland & Labrador
REFRESH-INTERVAL;VALUE=DURATION:PT1H
X-Robots-Tag:noindex
X-PUBLISHED-TTL:PT1H
BEGIN:VTIMEZONE
TZID:Europe/London
BEGIN:DAYLIGHT
TZOFFSETFROM:+0000
TZOFFSETTO:+0100
TZNAME:BST
DTSTART:20210328T010000
END:DAYLIGHT
BEGIN:STANDARD
TZOFFSETFROM:+0100
TZOFFSETTO:+0000
TZNAME:GMT
DTSTART:20211031T010000
END:STANDARD
BEGIN:DAYLIGHT
TZOFFSETFROM:+0000
TZOFFSETTO:+0100
TZNAME:BST
DTSTART:20220327T010000
END:DAYLIGHT
BEGIN:STANDARD
TZOFFSETFROM:+0100
TZOFFSETTO:+0000
TZNAME:GMT
DTSTART:20221030T010000
END:STANDARD
BEGIN:DAYLIGHT
TZOFFSETFROM:+0000
TZOFFSETTO:+0100
TZNAME:BST
DTSTART:20230326T010000
END:DAYLIGHT
BEGIN:STANDARD
TZOFFSETFROM:+0100
TZOFFSETTO:+0000
TZNAME:GMT
DTSTART:20231029T010000
END:STANDARD
END:VTIMEZONE
BEGIN:VTIMEZONE
TZID:America/Toronto
BEGIN:DAYLIGHT
TZOFFSETFROM:-0500
TZOFFSETTO:-0400
TZNAME:EDT
DTSTART:20210314T070000
END:DAYLIGHT
BEGIN:STANDARD
TZOFFSETFROM:-0400
TZOFFSETTO:-0500
TZNAME:EST
DTSTART:20211107T060000
END:STANDARD
BEGIN:DAYLIGHT
TZOFFSETFROM:-0500
TZOFFSETTO:-0400
TZNAME:EDT
DTSTART:20220313T070000
END:DAYLIGHT
BEGIN:STANDARD
TZOFFSETFROM:-0400
TZOFFSETTO:-0500
TZNAME:EST
DTSTART:20221106T060000
END:STANDARD
BEGIN:DAYLIGHT
TZOFFSETFROM:-0500
TZOFFSETTO:-0400
TZNAME:EDT
DTSTART:20230312T070000
END:DAYLIGHT
BEGIN:STANDARD
TZOFFSETFROM:-0400
TZOFFSETTO:-0500
TZNAME:EST
DTSTART:20231105T060000
END:STANDARD
END:VTIMEZONE
BEGIN:VTIMEZONE
TZID:America/St_Johns
BEGIN:DAYLIGHT
TZOFFSETFROM:-0330
TZOFFSETTO:-0230
TZNAME:NDT
DTSTART:20210314T053000
END:DAYLIGHT
BEGIN:STANDARD
TZOFFSETFROM:-0230
TZOFFSETTO:-0330
TZNAME:NST
DTSTART:20211107T043000
END:STANDARD
BEGIN:DAYLIGHT
TZOFFSETFROM:-0330
TZOFFSETTO:-0230
TZNAME:NDT
DTSTART:20220313T053000
END:DAYLIGHT
BEGIN:STANDARD
TZOFFSETFROM:-0230
TZOFFSETTO:-0330
TZNAME:NST
DTSTART:20221106T043000
END:STANDARD
BEGIN:DAYLIGHT
TZOFFSETFROM:-0330
TZOFFSETTO:-0230
TZNAME:NDT
DTSTART:20230312T053000
END:DAYLIGHT
BEGIN:STANDARD
TZOFFSETFROM:-0230
TZOFFSETTO:-0330
TZNAME:NST
DTSTART:20231105T043000
END:STANDARD
END:VTIMEZONE
BEGIN:VEVENT
DTSTART;TZID=Europe/London:20220818T130000
DTEND;TZID=Europe/London:20220818T140000
DTSTAMP:20260419T195007
CREATED:20220729T173656Z
LAST-MODIFIED:20220729T173656Z
UID:10000216-1660827600-1660831200@energyresearchinnovation.ca
SUMMARY:Net Zero Technology Centre - Begin Your TechX Journey: Everything Start-ups Need to Know
DESCRIPTION:
URL:https://energyresearchinnovation.ca/event/net-zero-technology-centre-begin-your-techx-journey-everything-start-ups-need-to-know/
CATEGORIES:External Event
END:VEVENT
BEGIN:VEVENT
DTSTART;TZID=America/Toronto:20220823T120000
DTEND;TZID=America/Toronto:20220823T131500
DTSTAMP:20260419T195007
CREATED:20220819T180945Z
LAST-MODIFIED:20220819T181019Z
UID:10000219-1661256000-1661260500@energyresearchinnovation.ca
SUMMARY:MaRS - Innovation Economy Council: Oceans of Opportunity
DESCRIPTION:
URL:https://energyresearchinnovation.ca/event/mars-innovation-economy-council-oceans-of-opportunity/
CATEGORIES:External Event
END:VEVENT
BEGIN:VEVENT
DTSTART;TZID=America/St_Johns:20220829T080000
DTEND;TZID=America/St_Johns:20220901T170000
DTSTAMP:20260419T195007
CREATED:20220530T195204Z
LAST-MODIFIED:20220530T195204Z
UID:10000333-1661760000-1662051600@energyresearchinnovation.ca
SUMMARY:Energy NL - Atlantic Canada Delegation to Offshore Northern Seas 2022 Exhibition and Conference
DESCRIPTION:
URL:https://energyresearchinnovation.ca/event/energy-nl-atlantic-canada-delegation-to-offshore-northern-seas-2022-exhibition-and-conference/
CATEGORIES:External Event
END:VEVENT
END:VCALENDAR