BEGIN:VCALENDAR
VERSION:2.0
PRODID:-//Energy Research & Innovation Newfoundland & Labrador - ECPv6.15.19//NONSGML v1.0//EN
CALSCALE:GREGORIAN
METHOD:PUBLISH
X-ORIGINAL-URL:https://energyresearchinnovation.ca
X-WR-CALDESC:Events for Energy Research & Innovation Newfoundland & Labrador
REFRESH-INTERVAL;VALUE=DURATION:PT1H
X-Robots-Tag:noindex
X-PUBLISHED-TTL:PT1H
BEGIN:VTIMEZONE
TZID:America/St_Johns
BEGIN:DAYLIGHT
TZOFFSETFROM:-0330
TZOFFSETTO:-0230
TZNAME:NDT
DTSTART:20210314T053000
END:DAYLIGHT
BEGIN:STANDARD
TZOFFSETFROM:-0230
TZOFFSETTO:-0330
TZNAME:NST
DTSTART:20211107T043000
END:STANDARD
BEGIN:DAYLIGHT
TZOFFSETFROM:-0330
TZOFFSETTO:-0230
TZNAME:NDT
DTSTART:20220313T053000
END:DAYLIGHT
BEGIN:STANDARD
TZOFFSETFROM:-0230
TZOFFSETTO:-0330
TZNAME:NST
DTSTART:20221106T043000
END:STANDARD
BEGIN:DAYLIGHT
TZOFFSETFROM:-0330
TZOFFSETTO:-0230
TZNAME:NDT
DTSTART:20230312T053000
END:DAYLIGHT
BEGIN:STANDARD
TZOFFSETFROM:-0230
TZOFFSETTO:-0330
TZNAME:NST
DTSTART:20231105T043000
END:STANDARD
END:VTIMEZONE
BEGIN:VEVENT
DTSTART;VALUE=DATE:20220719
DTEND;VALUE=DATE:20220724
DTSTAMP:20260419T214044
CREATED:20220620T201753Z
LAST-MODIFIED:20220620T201753Z
UID:10000338-1658188800-1658620799@energyresearchinnovation.ca
SUMMARY:techNL - TechFWD: NL’s First Career-Based Hackathon
DESCRIPTION:
URL:https://energyresearchinnovation.ca/event/technl-techfwd-nls-first-career-based-hackathon/
CATEGORIES:External Event
END:VEVENT
BEGIN:VEVENT
DTSTART;VALUE=DATE:20220725
DTEND;VALUE=DATE:20220729
DTSTAMP:20260419T214044
CREATED:20220620T201604Z
LAST-MODIFIED:20220620T201604Z
UID:10000337-1658707200-1659052799@energyresearchinnovation.ca
SUMMARY:Innovate Canada 2022
DESCRIPTION:
URL:https://energyresearchinnovation.ca/event/innovate-canada-2022/
CATEGORIES:External Event
END:VEVENT
END:VCALENDAR