BEGIN:VCALENDAR
VERSION:2.0
PRODID:-//Energy Research & Innovation Newfoundland & Labrador - ECPv6.15.19//NONSGML v1.0//EN
CALSCALE:GREGORIAN
METHOD:PUBLISH
X-WR-CALNAME:Energy Research & Innovation Newfoundland & Labrador
X-ORIGINAL-URL:https://energyresearchinnovation.ca
X-WR-CALDESC:Events for Energy Research & Innovation Newfoundland & Labrador
REFRESH-INTERVAL;VALUE=DURATION:PT1H
X-Robots-Tag:noindex
X-PUBLISHED-TTL:PT1H
BEGIN:VTIMEZONE
TZID:America/St_Johns
BEGIN:DAYLIGHT
TZOFFSETFROM:-0330
TZOFFSETTO:-0230
TZNAME:NDT
DTSTART:20210314T053000
END:DAYLIGHT
BEGIN:STANDARD
TZOFFSETFROM:-0230
TZOFFSETTO:-0330
TZNAME:NST
DTSTART:20211107T043000
END:STANDARD
BEGIN:DAYLIGHT
TZOFFSETFROM:-0330
TZOFFSETTO:-0230
TZNAME:NDT
DTSTART:20220313T053000
END:DAYLIGHT
BEGIN:STANDARD
TZOFFSETFROM:-0230
TZOFFSETTO:-0330
TZNAME:NST
DTSTART:20221106T043000
END:STANDARD
BEGIN:DAYLIGHT
TZOFFSETFROM:-0330
TZOFFSETTO:-0230
TZNAME:NDT
DTSTART:20230312T053000
END:DAYLIGHT
BEGIN:STANDARD
TZOFFSETFROM:-0230
TZOFFSETTO:-0330
TZNAME:NST
DTSTART:20231105T043000
END:STANDARD
END:VTIMEZONE
BEGIN:VTIMEZONE
TZID:America/Edmonton
BEGIN:DAYLIGHT
TZOFFSETFROM:-0700
TZOFFSETTO:-0600
TZNAME:MDT
DTSTART:20210314T090000
END:DAYLIGHT
BEGIN:STANDARD
TZOFFSETFROM:-0600
TZOFFSETTO:-0700
TZNAME:MST
DTSTART:20211107T080000
END:STANDARD
BEGIN:DAYLIGHT
TZOFFSETFROM:-0700
TZOFFSETTO:-0600
TZNAME:MDT
DTSTART:20220313T090000
END:DAYLIGHT
BEGIN:STANDARD
TZOFFSETFROM:-0600
TZOFFSETTO:-0700
TZNAME:MST
DTSTART:20221106T080000
END:STANDARD
BEGIN:DAYLIGHT
TZOFFSETFROM:-0700
TZOFFSETTO:-0600
TZNAME:MDT
DTSTART:20230312T090000
END:DAYLIGHT
BEGIN:STANDARD
TZOFFSETFROM:-0600
TZOFFSETTO:-0700
TZNAME:MST
DTSTART:20231105T080000
END:STANDARD
END:VTIMEZONE
BEGIN:VEVENT
DTSTART;TZID=America/St_Johns:20220502T080000
DTEND;TZID=America/St_Johns:20220505T170000
DTSTAMP:20260420T013438
CREATED:20220308T142518Z
LAST-MODIFIED:20220323T144426Z
UID:10000323-1651478400-1651770000@energyresearchinnovation.ca
SUMMARY:Energy NL (formerly NOIA) - OTC 2022
DESCRIPTION:
URL:https://energyresearchinnovation.ca/event/noia-otc-2022/
CATEGORIES:External Event
END:VEVENT
BEGIN:VEVENT
DTSTART;TZID=America/Edmonton:20220510T100000
DTEND;TZID=America/Edmonton:20220510T120000
DTSTAMP:20260420T013438
CREATED:20220504T193754Z
LAST-MODIFIED:20220504T193754Z
UID:10000210-1652176800-1652184000@energyresearchinnovation.ca
SUMMARY:Emission Reduction Alberta's (ERA) - Research in Action (Webinar)
DESCRIPTION:
URL:https://energyresearchinnovation.ca/event/emission-reduction-albertas-era-research-in-action-webinar/
CATEGORIES:External Event
END:VEVENT
BEGIN:VEVENT
DTSTART;TZID=America/St_Johns:20220511T130000
DTEND;TZID=America/St_Johns:20220511T140000
DTSTAMP:20260420T013438
CREATED:20220504T193532Z
LAST-MODIFIED:20220504T193532Z
UID:10000209-1652274000-1652277600@energyresearchinnovation.ca
SUMMARY:techNL and Energy NL - Remote Operations in Oil & Gas - Technology Perspective
DESCRIPTION:
URL:https://energyresearchinnovation.ca/event/technl-and-energy-nl-remote-operations-in-oil-gas-technology-perspective/
CATEGORIES:External Event
END:VEVENT
BEGIN:VEVENT
DTSTART;TZID=America/Edmonton:20220526T080000
DTEND;TZID=America/Edmonton:20220526T150000
DTSTAMP:20260420T013438
CREATED:20220504T193241Z
LAST-MODIFIED:20220504T193325Z
UID:10000208-1653552000-1653577200@energyresearchinnovation.ca
SUMMARY:EnergyNow - Energy Innovation Conference (Virtual Event)
DESCRIPTION:
URL:https://energyresearchinnovation.ca/event/crin-energy-innovation-conference-virtual-event/
CATEGORIES:External Event
END:VEVENT
BEGIN:VEVENT
DTSTART;TZID=America/St_Johns:20220526T150000
DTEND;TZID=America/St_Johns:20220526T170000
DTSTAMP:20260420T013438
CREATED:20220420T172134Z
LAST-MODIFIED:20220420T172134Z
UID:10000330-1653577200-1653584400@energyresearchinnovation.ca
SUMMARY:techNL - Annual General Meeting
DESCRIPTION:
URL:https://energyresearchinnovation.ca/event/technl-annual-general-meeting/
CATEGORIES:External Event
END:VEVENT
BEGIN:VEVENT
DTSTART;TZID=America/St_Johns:20220531T080000
DTEND;TZID=America/St_Johns:20220602T170000
DTSTAMP:20260420T013438
CREATED:20211209T152730Z
LAST-MODIFIED:20220323T144420Z
UID:10000306-1653984000-1654189200@energyresearchinnovation.ca
SUMMARY:Energy NL (formerly NOIA) Conference
DESCRIPTION:
URL:https://energyresearchinnovation.ca/event/noia-conference-2/
CATEGORIES:External Event
END:VEVENT
END:VCALENDAR