BEGIN:VCALENDAR
VERSION:2.0
PRODID:-//Energy Research & Innovation Newfoundland & Labrador - ECPv6.15.19//NONSGML v1.0//EN
CALSCALE:GREGORIAN
METHOD:PUBLISH
X-WR-CALNAME:Energy Research & Innovation Newfoundland & Labrador
X-ORIGINAL-URL:https://energyresearchinnovation.ca
X-WR-CALDESC:Events for Energy Research & Innovation Newfoundland & Labrador
REFRESH-INTERVAL;VALUE=DURATION:PT1H
X-Robots-Tag:noindex
X-PUBLISHED-TTL:PT1H
BEGIN:VTIMEZONE
TZID:America/St_Johns
BEGIN:DAYLIGHT
TZOFFSETFROM:-0330
TZOFFSETTO:-0230
TZNAME:NDT
DTSTART:20210314T053000
END:DAYLIGHT
BEGIN:STANDARD
TZOFFSETFROM:-0230
TZOFFSETTO:-0330
TZNAME:NST
DTSTART:20211107T043000
END:STANDARD
BEGIN:DAYLIGHT
TZOFFSETFROM:-0330
TZOFFSETTO:-0230
TZNAME:NDT
DTSTART:20220313T053000
END:DAYLIGHT
BEGIN:STANDARD
TZOFFSETFROM:-0230
TZOFFSETTO:-0330
TZNAME:NST
DTSTART:20221106T043000
END:STANDARD
BEGIN:DAYLIGHT
TZOFFSETFROM:-0330
TZOFFSETTO:-0230
TZNAME:NDT
DTSTART:20230312T053000
END:DAYLIGHT
BEGIN:STANDARD
TZOFFSETFROM:-0230
TZOFFSETTO:-0330
TZNAME:NST
DTSTART:20231105T043000
END:STANDARD
END:VTIMEZONE
BEGIN:VTIMEZONE
TZID:Europe/London
BEGIN:DAYLIGHT
TZOFFSETFROM:+0000
TZOFFSETTO:+0100
TZNAME:BST
DTSTART:20210328T010000
END:DAYLIGHT
BEGIN:STANDARD
TZOFFSETFROM:+0100
TZOFFSETTO:+0000
TZNAME:GMT
DTSTART:20211031T010000
END:STANDARD
BEGIN:DAYLIGHT
TZOFFSETFROM:+0000
TZOFFSETTO:+0100
TZNAME:BST
DTSTART:20220327T010000
END:DAYLIGHT
BEGIN:STANDARD
TZOFFSETFROM:+0100
TZOFFSETTO:+0000
TZNAME:GMT
DTSTART:20221030T010000
END:STANDARD
BEGIN:DAYLIGHT
TZOFFSETFROM:+0000
TZOFFSETTO:+0100
TZNAME:BST
DTSTART:20230326T010000
END:DAYLIGHT
BEGIN:STANDARD
TZOFFSETFROM:+0100
TZOFFSETTO:+0000
TZNAME:GMT
DTSTART:20231029T010000
END:STANDARD
END:VTIMEZONE
BEGIN:VTIMEZONE
TZID:America/Halifax
BEGIN:DAYLIGHT
TZOFFSETFROM:-0400
TZOFFSETTO:-0300
TZNAME:ADT
DTSTART:20210314T060000
END:DAYLIGHT
BEGIN:STANDARD
TZOFFSETFROM:-0300
TZOFFSETTO:-0400
TZNAME:AST
DTSTART:20211107T050000
END:STANDARD
BEGIN:DAYLIGHT
TZOFFSETFROM:-0400
TZOFFSETTO:-0300
TZNAME:ADT
DTSTART:20220313T060000
END:DAYLIGHT
BEGIN:STANDARD
TZOFFSETFROM:-0300
TZOFFSETTO:-0400
TZNAME:AST
DTSTART:20221106T050000
END:STANDARD
BEGIN:DAYLIGHT
TZOFFSETFROM:-0400
TZOFFSETTO:-0300
TZNAME:ADT
DTSTART:20230312T060000
END:DAYLIGHT
BEGIN:STANDARD
TZOFFSETFROM:-0300
TZOFFSETTO:-0400
TZNAME:AST
DTSTART:20231105T050000
END:STANDARD
END:VTIMEZONE
BEGIN:VTIMEZONE
TZID:America/Los_Angeles
BEGIN:DAYLIGHT
TZOFFSETFROM:-0800
TZOFFSETTO:-0700
TZNAME:PDT
DTSTART:20210314T100000
END:DAYLIGHT
BEGIN:STANDARD
TZOFFSETFROM:-0700
TZOFFSETTO:-0800
TZNAME:PST
DTSTART:20211107T090000
END:STANDARD
BEGIN:DAYLIGHT
TZOFFSETFROM:-0800
TZOFFSETTO:-0700
TZNAME:PDT
DTSTART:20220313T100000
END:DAYLIGHT
BEGIN:STANDARD
TZOFFSETFROM:-0700
TZOFFSETTO:-0800
TZNAME:PST
DTSTART:20221106T090000
END:STANDARD
BEGIN:DAYLIGHT
TZOFFSETFROM:-0800
TZOFFSETTO:-0700
TZNAME:PDT
DTSTART:20230312T100000
END:DAYLIGHT
BEGIN:STANDARD
TZOFFSETFROM:-0700
TZOFFSETTO:-0800
TZNAME:PST
DTSTART:20231105T090000
END:STANDARD
END:VTIMEZONE
BEGIN:VTIMEZONE
TZID:America/Edmonton
BEGIN:DAYLIGHT
TZOFFSETFROM:-0700
TZOFFSETTO:-0600
TZNAME:MDT
DTSTART:20210314T090000
END:DAYLIGHT
BEGIN:STANDARD
TZOFFSETFROM:-0600
TZOFFSETTO:-0700
TZNAME:MST
DTSTART:20211107T080000
END:STANDARD
BEGIN:DAYLIGHT
TZOFFSETFROM:-0700
TZOFFSETTO:-0600
TZNAME:MDT
DTSTART:20220313T090000
END:DAYLIGHT
BEGIN:STANDARD
TZOFFSETFROM:-0600
TZOFFSETTO:-0700
TZNAME:MST
DTSTART:20221106T080000
END:STANDARD
BEGIN:DAYLIGHT
TZOFFSETFROM:-0700
TZOFFSETTO:-0600
TZNAME:MDT
DTSTART:20230312T090000
END:DAYLIGHT
BEGIN:STANDARD
TZOFFSETFROM:-0600
TZOFFSETTO:-0700
TZNAME:MST
DTSTART:20231105T080000
END:STANDARD
END:VTIMEZONE
BEGIN:VTIMEZONE
TZID:America/Toronto
BEGIN:DAYLIGHT
TZOFFSETFROM:-0500
TZOFFSETTO:-0400
TZNAME:EDT
DTSTART:20210314T070000
END:DAYLIGHT
BEGIN:STANDARD
TZOFFSETFROM:-0400
TZOFFSETTO:-0500
TZNAME:EST
DTSTART:20211107T060000
END:STANDARD
BEGIN:DAYLIGHT
TZOFFSETFROM:-0500
TZOFFSETTO:-0400
TZNAME:EDT
DTSTART:20220313T070000
END:DAYLIGHT
BEGIN:STANDARD
TZOFFSETFROM:-0400
TZOFFSETTO:-0500
TZNAME:EST
DTSTART:20221106T060000
END:STANDARD
BEGIN:DAYLIGHT
TZOFFSETFROM:-0500
TZOFFSETTO:-0400
TZNAME:EDT
DTSTART:20230312T070000
END:DAYLIGHT
BEGIN:STANDARD
TZOFFSETFROM:-0400
TZOFFSETTO:-0500
TZNAME:EST
DTSTART:20231105T060000
END:STANDARD
END:VTIMEZONE
BEGIN:VEVENT
DTSTART;TZID=America/St_Johns:20220405T080000
DTEND;TZID=America/St_Johns:20220407T170000
DTSTAMP:20260420T032630
CREATED:20220308T142332Z
LAST-MODIFIED:20220323T144411Z
UID:10000322-1649145600-1649350800@energyresearchinnovation.ca
SUMMARY:Energy NL (formerly NOIA) - 360 by Deloitte
DESCRIPTION:
URL:https://energyresearchinnovation.ca/event/noia-360-by-deloitte/
CATEGORIES:External Event
END:VEVENT
BEGIN:VEVENT
DTSTART;TZID=America/St_Johns:20220413T130000
DTEND;TZID=America/St_Johns:20220413T140000
DTSTAMP:20260420T032630
CREATED:20220420T171813Z
LAST-MODIFIED:20220420T171813Z
UID:10000328-1649854800-1649858400@energyresearchinnovation.ca
SUMMARY:techNL and Energy NL - Ai in Oil and Gas Webinar
DESCRIPTION:
URL:https://energyresearchinnovation.ca/event/technl-and-energy-nl-ai-in-oil-and-gas-webinar/
CATEGORIES:External Event
END:VEVENT
BEGIN:VEVENT
DTSTART;TZID=Europe/London:20220421T090000
DTEND;TZID=Europe/London:20220421T110000
DTSTAMP:20260420T032630
CREATED:20220420T193458Z
LAST-MODIFIED:20220420T193458Z
UID:10000207-1650531600-1650538800@energyresearchinnovation.ca
SUMMARY:Net Zero Technology Centre - Offshore Hydrogen in Scotland and France: Technologies\, Know-How and Perspectives
DESCRIPTION:
URL:https://energyresearchinnovation.ca/event/net-zero-technology-centre-offshore-hydrogen-in-scotland-and-france-technologies-know-how-and-perspectives/
CATEGORIES:External Event
END:VEVENT
BEGIN:VEVENT
DTSTART;TZID=Europe/London:20220421T093000
DTEND;TZID=Europe/London:20220421T110000
DTSTAMP:20260420T032630
CREATED:20220420T193220Z
LAST-MODIFIED:20220420T193220Z
UID:10000206-1650533400-1650538800@energyresearchinnovation.ca
SUMMARY:Net Zero Technology Centre - Ai Informing Optimal Pathways to Net Zero
DESCRIPTION:
URL:https://energyresearchinnovation.ca/event/net-zero-technology-centre-ai-informing-optimal-pathways-to-net-zero/
CATEGORIES:External Event
END:VEVENT
BEGIN:VEVENT
DTSTART;TZID=America/Halifax:20220421T130000
DTEND;TZID=America/Halifax:20220421T140000
DTSTAMP:20260420T032630
CREATED:20220420T193007Z
LAST-MODIFIED:20220420T193007Z
UID:10000205-1650546000-1650549600@energyresearchinnovation.ca
SUMMARY:Marine Renewables Canada - Offshore Wind in Atlantic Canada: Opportunities & Challenges (Webinar)
DESCRIPTION:
URL:https://energyresearchinnovation.ca/event/marine-renewables-canada-offshore-wind-in-atlantic-canada-opportunities-challenges-webinar/
CATEGORIES:External Event
END:VEVENT
BEGIN:VEVENT
DTSTART;TZID=America/St_Johns:20220421T133000
DTEND;TZID=America/St_Johns:20220421T150000
DTSTAMP:20260420T032630
CREATED:20220420T172351Z
LAST-MODIFIED:20220420T172351Z
UID:10000201-1650547800-1650553200@energyresearchinnovation.ca
SUMMARY:Network Event - Leverage Your Expertise to Build a Resilient Energy Career
DESCRIPTION:
URL:https://energyresearchinnovation.ca/event/network-event-leverage-your-expertise-to-build-a-resilient-energy-career/
CATEGORIES:External Event
END:VEVENT
BEGIN:VEVENT
DTSTART;TZID=America/Los_Angeles:20220426T090000
DTEND;TZID=America/Los_Angeles:20220426T100000
DTSTAMP:20260420T032630
CREATED:20220420T192721Z
LAST-MODIFIED:20220420T192802Z
UID:10000204-1650963600-1650967200@energyresearchinnovation.ca
SUMMARY:Cloudera and TechCrunch - Data and the Culture Transformation
DESCRIPTION:
URL:https://energyresearchinnovation.ca/event/cloudera-and-techcrunch-data-and-the-culture-transformation/
CATEGORIES:External Event
END:VEVENT
BEGIN:VEVENT
DTSTART;TZID=America/Edmonton:20220426T090000
DTEND;TZID=America/Edmonton:20220426T101500
DTSTAMP:20260420T032630
CREATED:20220420T172546Z
LAST-MODIFIED:20220420T172546Z
UID:10000202-1650963600-1650968100@energyresearchinnovation.ca
SUMMARY:CRIN - Canadian Climate Policies - An Update on Implications for Canada's Energy Sector
DESCRIPTION:
URL:https://energyresearchinnovation.ca/event/crin-canadian-climate-policies-an-update-on-implications-for-canadas-energy-sector/
CATEGORIES:External Event
END:VEVENT
BEGIN:VEVENT
DTSTART;TZID=America/St_Johns:20220426T100000
DTEND;TZID=America/St_Johns:20220426T113000
DTSTAMP:20260420T032630
CREATED:20220420T171940Z
LAST-MODIFIED:20220420T171940Z
UID:10000329-1650967200-1650972600@energyresearchinnovation.ca
SUMMARY:Energy NL - Virtual AGM 2022
DESCRIPTION:
URL:https://energyresearchinnovation.ca/event/energy-nl-virtual-agm-2022/
CATEGORIES:External Event
END:VEVENT
BEGIN:VEVENT
DTSTART;TZID=America/Toronto:20220426T110000
DTEND;TZID=America/Toronto:20220426T120000
DTSTAMP:20260420T032630
CREATED:20220420T192239Z
LAST-MODIFIED:20220420T192239Z
UID:10000203-1650970800-1650974400@energyresearchinnovation.ca
SUMMARY:CAPP - The Canadian Oil & Gas Industry Conference: The New Cyber Threat
DESCRIPTION:
URL:https://energyresearchinnovation.ca/event/capp-the-canadian-oil-gas-industry-conference-the-new-cyber-threat/
CATEGORIES:External Event
END:VEVENT
END:VCALENDAR