BEGIN:VCALENDAR
VERSION:2.0
PRODID:-//Energy Research & Innovation Newfoundland & Labrador - ECPv6.15.19//NONSGML v1.0//EN
CALSCALE:GREGORIAN
METHOD:PUBLISH
X-WR-CALNAME:Energy Research & Innovation Newfoundland & Labrador
X-ORIGINAL-URL:https://energyresearchinnovation.ca
X-WR-CALDESC:Events for Energy Research & Innovation Newfoundland & Labrador
REFRESH-INTERVAL;VALUE=DURATION:PT1H
X-Robots-Tag:noindex
X-PUBLISHED-TTL:PT1H
BEGIN:VTIMEZONE
TZID:America/St_Johns
BEGIN:DAYLIGHT
TZOFFSETFROM:-0330
TZOFFSETTO:-0230
TZNAME:NDT
DTSTART:20210314T053000
END:DAYLIGHT
BEGIN:STANDARD
TZOFFSETFROM:-0230
TZOFFSETTO:-0330
TZNAME:NST
DTSTART:20211107T043000
END:STANDARD
BEGIN:DAYLIGHT
TZOFFSETFROM:-0330
TZOFFSETTO:-0230
TZNAME:NDT
DTSTART:20220313T053000
END:DAYLIGHT
BEGIN:STANDARD
TZOFFSETFROM:-0230
TZOFFSETTO:-0330
TZNAME:NST
DTSTART:20221106T043000
END:STANDARD
BEGIN:DAYLIGHT
TZOFFSETFROM:-0330
TZOFFSETTO:-0230
TZNAME:NDT
DTSTART:20230312T053000
END:DAYLIGHT
BEGIN:STANDARD
TZOFFSETFROM:-0230
TZOFFSETTO:-0330
TZNAME:NST
DTSTART:20231105T043000
END:STANDARD
END:VTIMEZONE
BEGIN:VTIMEZONE
TZID:America/Edmonton
BEGIN:DAYLIGHT
TZOFFSETFROM:-0700
TZOFFSETTO:-0600
TZNAME:MDT
DTSTART:20210314T090000
END:DAYLIGHT
BEGIN:STANDARD
TZOFFSETFROM:-0600
TZOFFSETTO:-0700
TZNAME:MST
DTSTART:20211107T080000
END:STANDARD
BEGIN:DAYLIGHT
TZOFFSETFROM:-0700
TZOFFSETTO:-0600
TZNAME:MDT
DTSTART:20220313T090000
END:DAYLIGHT
BEGIN:STANDARD
TZOFFSETFROM:-0600
TZOFFSETTO:-0700
TZNAME:MST
DTSTART:20221106T080000
END:STANDARD
BEGIN:DAYLIGHT
TZOFFSETFROM:-0700
TZOFFSETTO:-0600
TZNAME:MDT
DTSTART:20230312T090000
END:DAYLIGHT
BEGIN:STANDARD
TZOFFSETFROM:-0600
TZOFFSETTO:-0700
TZNAME:MST
DTSTART:20231105T080000
END:STANDARD
END:VTIMEZONE
BEGIN:VTIMEZONE
TZID:Europe/London
BEGIN:DAYLIGHT
TZOFFSETFROM:+0000
TZOFFSETTO:+0100
TZNAME:BST
DTSTART:20210328T010000
END:DAYLIGHT
BEGIN:STANDARD
TZOFFSETFROM:+0100
TZOFFSETTO:+0000
TZNAME:GMT
DTSTART:20211031T010000
END:STANDARD
BEGIN:DAYLIGHT
TZOFFSETFROM:+0000
TZOFFSETTO:+0100
TZNAME:BST
DTSTART:20220327T010000
END:DAYLIGHT
BEGIN:STANDARD
TZOFFSETFROM:+0100
TZOFFSETTO:+0000
TZNAME:GMT
DTSTART:20221030T010000
END:STANDARD
BEGIN:DAYLIGHT
TZOFFSETFROM:+0000
TZOFFSETTO:+0100
TZNAME:BST
DTSTART:20230326T010000
END:DAYLIGHT
BEGIN:STANDARD
TZOFFSETFROM:+0100
TZOFFSETTO:+0000
TZNAME:GMT
DTSTART:20231029T010000
END:STANDARD
END:VTIMEZONE
BEGIN:VTIMEZONE
TZID:America/Halifax
BEGIN:DAYLIGHT
TZOFFSETFROM:-0400
TZOFFSETTO:-0300
TZNAME:ADT
DTSTART:20210314T060000
END:DAYLIGHT
BEGIN:STANDARD
TZOFFSETFROM:-0300
TZOFFSETTO:-0400
TZNAME:AST
DTSTART:20211107T050000
END:STANDARD
BEGIN:DAYLIGHT
TZOFFSETFROM:-0400
TZOFFSETTO:-0300
TZNAME:ADT
DTSTART:20220313T060000
END:DAYLIGHT
BEGIN:STANDARD
TZOFFSETFROM:-0300
TZOFFSETTO:-0400
TZNAME:AST
DTSTART:20221106T050000
END:STANDARD
BEGIN:DAYLIGHT
TZOFFSETFROM:-0400
TZOFFSETTO:-0300
TZNAME:ADT
DTSTART:20230312T060000
END:DAYLIGHT
BEGIN:STANDARD
TZOFFSETFROM:-0300
TZOFFSETTO:-0400
TZNAME:AST
DTSTART:20231105T050000
END:STANDARD
END:VTIMEZONE
BEGIN:VEVENT
DTSTART;TZID=America/St_Johns:20220308T133000
DTEND;TZID=America/St_Johns:20220308T143000
DTSTAMP:20260420T050635
CREATED:20220308T142156Z
LAST-MODIFIED:20220308T142156Z
UID:10000321-1646746200-1646749800@energyresearchinnovation.ca
SUMMARY:MaRS - Celebrating International Women's Day
DESCRIPTION:
URL:https://energyresearchinnovation.ca/event/mars-celebrating-international-womens-day/
CATEGORIES:External Event
END:VEVENT
BEGIN:VEVENT
DTSTART;TZID=America/Edmonton:20220309T110000
DTEND;TZID=America/Edmonton:20220309T120000
DTSTAMP:20260420T050635
CREATED:20220204T154741Z
LAST-MODIFIED:20220204T154741Z
UID:10000315-1646823600-1646827200@energyresearchinnovation.ca
SUMMARY:CRIN - Reducing Environmental Footprint Technology Competition Announcement of Funded Projects
DESCRIPTION:
URL:https://energyresearchinnovation.ca/event/crin-reducing-environmental-footprint-technology-competition-announcement-of-funded-projects/
CATEGORIES:External Event
END:VEVENT
BEGIN:VEVENT
DTSTART;VALUE=DATE:20220315
DTEND;VALUE=DATE:20220318
DTSTAMP:20260420T050635
CREATED:20220311T194952Z
LAST-MODIFIED:20220311T194952Z
UID:10000325-1647302400-1647561599@energyresearchinnovation.ca
SUMMARY:Ocean Supercluster - Ocean Technology International 2022
DESCRIPTION:
URL:https://energyresearchinnovation.ca/event/ocean-supercluster-ocean-technology-international-2022/
CATEGORIES:External Event
END:VEVENT
BEGIN:VEVENT
DTSTART;TZID=America/Edmonton:20220317T100000
DTEND;TZID=America/Edmonton:20220317T113000
DTSTAMP:20260420T050635
CREATED:20220308T142027Z
LAST-MODIFIED:20220308T142027Z
UID:10000320-1647511200-1647516600@energyresearchinnovation.ca
SUMMARY:CRIN - Emerging Electrochemical Technologies for Water Treatment
DESCRIPTION:
URL:https://energyresearchinnovation.ca/event/crin-emerging-electrochemical-technologies-for-water-treatment/
CATEGORIES:External Event
END:VEVENT
BEGIN:VEVENT
DTSTART;TZID=Europe/London:20220328T093000
DTEND;TZID=Europe/London:20220328T110000
DTSTAMP:20260420T050635
CREATED:20220311T195654Z
LAST-MODIFIED:20220311T195654Z
UID:10000327-1648459800-1648465200@energyresearchinnovation.ca
SUMMARY:Net Zero Technology Centre - Al Informing Optimal Pathways to Net Zero
DESCRIPTION:
URL:https://energyresearchinnovation.ca/event/net-zero-technology-centre-al-informing-optimal-pathways-to-net-zero/
CATEGORIES:External Event
END:VEVENT
BEGIN:VEVENT
DTSTART;TZID=America/Halifax:20220330T140000
DTEND;TZID=America/Halifax:20220330T150000
DTSTAMP:20260420T050635
CREATED:20220311T195405Z
LAST-MODIFIED:20220311T195405Z
UID:10000326-1648648800-1648652400@energyresearchinnovation.ca
SUMMARY:Marine Renewables Canada - Offshore Wind in the US: Market Insight and Updates
DESCRIPTION:
URL:https://energyresearchinnovation.ca/event/marine-renewables-canada-offshore-wind-in-the-us-market-insight-and-updates/
CATEGORIES:External Event
END:VEVENT
END:VCALENDAR