BEGIN:VCALENDAR
VERSION:2.0
PRODID:-//Energy Research & Innovation Newfoundland & Labrador - ECPv6.15.19//NONSGML v1.0//EN
CALSCALE:GREGORIAN
METHOD:PUBLISH
X-WR-CALNAME:Energy Research & Innovation Newfoundland & Labrador
X-ORIGINAL-URL:https://energyresearchinnovation.ca
X-WR-CALDESC:Events for Energy Research & Innovation Newfoundland & Labrador
REFRESH-INTERVAL;VALUE=DURATION:PT1H
X-Robots-Tag:noindex
X-PUBLISHED-TTL:PT1H
BEGIN:VTIMEZONE
TZID:America/Halifax
BEGIN:DAYLIGHT
TZOFFSETFROM:-0400
TZOFFSETTO:-0300
TZNAME:ADT
DTSTART:20210314T060000
END:DAYLIGHT
BEGIN:STANDARD
TZOFFSETFROM:-0300
TZOFFSETTO:-0400
TZNAME:AST
DTSTART:20211107T050000
END:STANDARD
BEGIN:DAYLIGHT
TZOFFSETFROM:-0400
TZOFFSETTO:-0300
TZNAME:ADT
DTSTART:20220313T060000
END:DAYLIGHT
BEGIN:STANDARD
TZOFFSETFROM:-0300
TZOFFSETTO:-0400
TZNAME:AST
DTSTART:20221106T050000
END:STANDARD
BEGIN:DAYLIGHT
TZOFFSETFROM:-0400
TZOFFSETTO:-0300
TZNAME:ADT
DTSTART:20230312T060000
END:DAYLIGHT
BEGIN:STANDARD
TZOFFSETFROM:-0300
TZOFFSETTO:-0400
TZNAME:AST
DTSTART:20231105T050000
END:STANDARD
END:VTIMEZONE
BEGIN:VTIMEZONE
TZID:America/St_Johns
BEGIN:DAYLIGHT
TZOFFSETFROM:-0330
TZOFFSETTO:-0230
TZNAME:NDT
DTSTART:20210314T053000
END:DAYLIGHT
BEGIN:STANDARD
TZOFFSETFROM:-0230
TZOFFSETTO:-0330
TZNAME:NST
DTSTART:20211107T043000
END:STANDARD
BEGIN:DAYLIGHT
TZOFFSETFROM:-0330
TZOFFSETTO:-0230
TZNAME:NDT
DTSTART:20220313T053000
END:DAYLIGHT
BEGIN:STANDARD
TZOFFSETFROM:-0230
TZOFFSETTO:-0330
TZNAME:NST
DTSTART:20221106T043000
END:STANDARD
BEGIN:DAYLIGHT
TZOFFSETFROM:-0330
TZOFFSETTO:-0230
TZNAME:NDT
DTSTART:20230312T053000
END:DAYLIGHT
BEGIN:STANDARD
TZOFFSETFROM:-0230
TZOFFSETTO:-0330
TZNAME:NST
DTSTART:20231105T043000
END:STANDARD
END:VTIMEZONE
BEGIN:VTIMEZONE
TZID:America/Edmonton
BEGIN:DAYLIGHT
TZOFFSETFROM:-0700
TZOFFSETTO:-0600
TZNAME:MDT
DTSTART:20210314T090000
END:DAYLIGHT
BEGIN:STANDARD
TZOFFSETFROM:-0600
TZOFFSETTO:-0700
TZNAME:MST
DTSTART:20211107T080000
END:STANDARD
BEGIN:DAYLIGHT
TZOFFSETFROM:-0700
TZOFFSETTO:-0600
TZNAME:MDT
DTSTART:20220313T090000
END:DAYLIGHT
BEGIN:STANDARD
TZOFFSETFROM:-0600
TZOFFSETTO:-0700
TZNAME:MST
DTSTART:20221106T080000
END:STANDARD
BEGIN:DAYLIGHT
TZOFFSETFROM:-0700
TZOFFSETTO:-0600
TZNAME:MDT
DTSTART:20230312T090000
END:DAYLIGHT
BEGIN:STANDARD
TZOFFSETFROM:-0600
TZOFFSETTO:-0700
TZNAME:MST
DTSTART:20231105T080000
END:STANDARD
END:VTIMEZONE
BEGIN:VEVENT
DTSTART;TZID=America/Halifax:20221004T080000
DTEND;TZID=America/Halifax:20221005T170000
DTSTAMP:20260420T011031
CREATED:20220530T195457Z
LAST-MODIFIED:20220530T195548Z
UID:10000334-1664870400-1664989200@energyresearchinnovation.ca
SUMMARY:World Ocean Tech and Innovation Summit - Powering the Next Phase in Blue Growth
DESCRIPTION:
URL:https://energyresearchinnovation.ca/event/world-ocean-tech-and-innovation-summit-powering-the-next-phase-in-blue-growth/
CATEGORIES:External Event
END:VEVENT
BEGIN:VEVENT
DTSTART;TZID=America/St_Johns:20221004T080000
DTEND;TZID=America/St_Johns:20221006T170000
DTSTAMP:20260420T011031
CREATED:20220822T195445Z
LAST-MODIFIED:20220822T195445Z
UID:10000347-1664870400-1665075600@energyresearchinnovation.ca
SUMMARY:techNL - Innovation Week 2022
DESCRIPTION:
URL:https://energyresearchinnovation.ca/event/technl-innovation-week-2022/
CATEGORIES:External Event
END:VEVENT
BEGIN:VEVENT
DTSTART;TZID=America/Edmonton:20221004T090000
DTEND;TZID=America/Edmonton:20221004T101500
DTSTAMP:20260420T011031
CREATED:20220920T150308Z
LAST-MODIFIED:20220920T151015Z
UID:10000350-1664874000-1664878500@energyresearchinnovation.ca
SUMMARY:CRIN - Canadian Climate Policies - Consumer Impacts of Cleaner Fuels Policy
DESCRIPTION:
URL:https://energyresearchinnovation.ca/event/crin-canadian-climate-policies-consumer-impacts-of-cleaner-fuels-policy/
CATEGORIES:External Event
END:VEVENT
BEGIN:VEVENT
DTSTART;TZID=America/St_Johns:20221019T114500
DTEND;TZID=America/St_Johns:20221019T131500
DTSTAMP:20260420T011031
CREATED:20220920T151234Z
LAST-MODIFIED:20220920T151234Z
UID:10000221-1666179900-1666185300@energyresearchinnovation.ca
SUMMARY:St. John's Board of Trade - State of the Province
DESCRIPTION:
URL:https://energyresearchinnovation.ca/event/st-johns-board-of-trade-state-of-the-province/
CATEGORIES:External Event
END:VEVENT
BEGIN:VEVENT
DTSTART;TZID=America/St_Johns:20221020T081500
DTEND;TZID=America/St_Johns:20221020T163000
DTSTAMP:20260420T011031
CREATED:20220204T164344Z
LAST-MODIFIED:20220421T190017Z
UID:10000318-1666253700-1666283400@energyresearchinnovation.ca
SUMMARY:econext - Annual Conference
DESCRIPTION:
URL:https://energyresearchinnovation.ca/event/econext-annual-conference-save-the-date-details-to-follow/
CATEGORIES:External Event
END:VEVENT
BEGIN:VEVENT
DTSTART;TZID=America/Edmonton:20221025T080000
DTEND;TZID=America/Edmonton:20221027T170000
DTSTAMP:20260420T011031
CREATED:20220708T140124Z
LAST-MODIFIED:20220708T140349Z
UID:10000212-1666684800-1666890000@energyresearchinnovation.ca
SUMMARY:Net Zero Conference & Expo - Calgary TELUS Convention Centre
DESCRIPTION:
URL:https://energyresearchinnovation.ca/event/net-zero-conference-expo-calgary-telus-convention-centre/
CATEGORIES:External Event
END:VEVENT
BEGIN:VEVENT
DTSTART;TZID=America/Halifax:20221026T073000
DTEND;TZID=America/Halifax:20221026T103000
DTSTAMP:20260420T011031
CREATED:20221020T183511Z
LAST-MODIFIED:20221020T183511Z
UID:10000225-1666769400-1666780200@energyresearchinnovation.ca
SUMMARY:Maritime Energy Association - Special General Meeting
DESCRIPTION:
URL:https://energyresearchinnovation.ca/event/maritime-energy-association-special-general-meeting/
CATEGORIES:External Event
END:VEVENT
END:VCALENDAR