BEGIN:VCALENDAR
VERSION:2.0
PRODID:-//Energy Research & Innovation Newfoundland & Labrador - ECPv6.15.19//NONSGML v1.0//EN
CALSCALE:GREGORIAN
METHOD:PUBLISH
X-ORIGINAL-URL:https://energyresearchinnovation.ca
X-WR-CALDESC:Events for Energy Research & Innovation Newfoundland & Labrador
REFRESH-INTERVAL;VALUE=DURATION:PT1H
X-Robots-Tag:noindex
X-PUBLISHED-TTL:PT1H
BEGIN:VTIMEZONE
TZID:America/Toronto
BEGIN:DAYLIGHT
TZOFFSETFROM:-0500
TZOFFSETTO:-0400
TZNAME:EDT
DTSTART:20210314T070000
END:DAYLIGHT
BEGIN:STANDARD
TZOFFSETFROM:-0400
TZOFFSETTO:-0500
TZNAME:EST
DTSTART:20211107T060000
END:STANDARD
BEGIN:DAYLIGHT
TZOFFSETFROM:-0500
TZOFFSETTO:-0400
TZNAME:EDT
DTSTART:20220313T070000
END:DAYLIGHT
BEGIN:STANDARD
TZOFFSETFROM:-0400
TZOFFSETTO:-0500
TZNAME:EST
DTSTART:20221106T060000
END:STANDARD
BEGIN:DAYLIGHT
TZOFFSETFROM:-0500
TZOFFSETTO:-0400
TZNAME:EDT
DTSTART:20230312T070000
END:DAYLIGHT
BEGIN:STANDARD
TZOFFSETFROM:-0400
TZOFFSETTO:-0500
TZNAME:EST
DTSTART:20231105T060000
END:STANDARD
END:VTIMEZONE
BEGIN:VTIMEZONE
TZID:America/St_Johns
BEGIN:DAYLIGHT
TZOFFSETFROM:-0330
TZOFFSETTO:-0230
TZNAME:NDT
DTSTART:20210314T053000
END:DAYLIGHT
BEGIN:STANDARD
TZOFFSETFROM:-0230
TZOFFSETTO:-0330
TZNAME:NST
DTSTART:20211107T043000
END:STANDARD
BEGIN:DAYLIGHT
TZOFFSETFROM:-0330
TZOFFSETTO:-0230
TZNAME:NDT
DTSTART:20220313T053000
END:DAYLIGHT
BEGIN:STANDARD
TZOFFSETFROM:-0230
TZOFFSETTO:-0330
TZNAME:NST
DTSTART:20221106T043000
END:STANDARD
BEGIN:DAYLIGHT
TZOFFSETFROM:-0330
TZOFFSETTO:-0230
TZNAME:NDT
DTSTART:20230312T053000
END:DAYLIGHT
BEGIN:STANDARD
TZOFFSETFROM:-0230
TZOFFSETTO:-0330
TZNAME:NST
DTSTART:20231105T043000
END:STANDARD
END:VTIMEZONE
BEGIN:VTIMEZONE
TZID:America/Edmonton
BEGIN:DAYLIGHT
TZOFFSETFROM:-0700
TZOFFSETTO:-0600
TZNAME:MDT
DTSTART:20210314T090000
END:DAYLIGHT
BEGIN:STANDARD
TZOFFSETFROM:-0600
TZOFFSETTO:-0700
TZNAME:MST
DTSTART:20211107T080000
END:STANDARD
BEGIN:DAYLIGHT
TZOFFSETFROM:-0700
TZOFFSETTO:-0600
TZNAME:MDT
DTSTART:20220313T090000
END:DAYLIGHT
BEGIN:STANDARD
TZOFFSETFROM:-0600
TZOFFSETTO:-0700
TZNAME:MST
DTSTART:20221106T080000
END:STANDARD
BEGIN:DAYLIGHT
TZOFFSETFROM:-0700
TZOFFSETTO:-0600
TZNAME:MDT
DTSTART:20230312T090000
END:DAYLIGHT
BEGIN:STANDARD
TZOFFSETFROM:-0600
TZOFFSETTO:-0700
TZNAME:MST
DTSTART:20231105T080000
END:STANDARD
END:VTIMEZONE
BEGIN:VEVENT
DTSTART;TZID=America/Toronto:20220208T130000
DTEND;TZID=America/Toronto:20220208T140000
DTSTAMP:20260420T154716
CREATED:20220204T155109Z
LAST-MODIFIED:20220204T155109Z
UID:10000317-1644325200-1644328800@energyresearchinnovation.ca
SUMMARY:Ocean Supercluster - Ocean Innovation and Greening Canada's Economy
DESCRIPTION:
URL:https://energyresearchinnovation.ca/event/ocean-supercluster-ocean-innovation-and-greening-canadas-economy/
CATEGORIES:External Event
END:VEVENT
BEGIN:VEVENT
DTSTART;TZID=America/St_Johns:20220209T130000
DTEND;TZID=America/St_Johns:20220209T150000
DTSTAMP:20260420T154716
CREATED:20220204T154921Z
LAST-MODIFIED:20220204T154921Z
UID:10000316-1644411600-1644418800@energyresearchinnovation.ca
SUMMARY:NOIA/techNL - Digital Awareness Campaign
DESCRIPTION:
URL:https://energyresearchinnovation.ca/event/noia-technl-digital-awareness-campaign/
CATEGORIES:External Event
END:VEVENT
BEGIN:VEVENT
DTSTART;VALUE=DATE:20220215
DTEND;VALUE=DATE:20220217
DTSTAMP:20260420T154716
CREATED:20220125T150352Z
LAST-MODIFIED:20220125T150352Z
UID:10000312-1644883200-1645055999@energyresearchinnovation.ca
SUMMARY:Norwegian Energy Partners - Hydrogen & CCS Symposium - Canada
DESCRIPTION:
URL:https://energyresearchinnovation.ca/event/norwegian-energy-partners-hydrogen-ccs-symposium-canada/
CATEGORIES:External Event
END:VEVENT
BEGIN:VEVENT
DTSTART;TZID=America/Edmonton:20220216T110000
DTEND;TZID=America/Edmonton:20220216T120000
DTSTAMP:20260420T154716
CREATED:20220204T153507Z
LAST-MODIFIED:20220204T153507Z
UID:10000313-1645009200-1645012800@energyresearchinnovation.ca
SUMMARY:CRIN - Low Emission Fuels and Products Technology Competition Announcement of Funded Projects
DESCRIPTION:
URL:https://energyresearchinnovation.ca/event/crin-low-emission-fuels-and-products-technology-competition-announcement-of-funded-projects/
CATEGORIES:External Event
END:VEVENT
BEGIN:VEVENT
DTSTART;TZID=America/Toronto:20220216T120000
DTEND;TZID=America/Toronto:20220216T130000
DTSTAMP:20260420T154716
CREATED:20220204T154602Z
LAST-MODIFIED:20220204T154602Z
UID:10000314-1645012800-1645016400@energyresearchinnovation.ca
SUMMARY:Canadian Fuels Association - Fueling Canada's Low-Carbon Future
DESCRIPTION:
URL:https://energyresearchinnovation.ca/event/canadian-fuels-association-fueling-canadas-low-carbon-future/
CATEGORIES:External Event
END:VEVENT
BEGIN:VEVENT
DTSTART;TZID=America/St_Johns:20220223T130000
DTEND;TZID=America/St_Johns:20220223T140000
DTSTAMP:20260420T154716
CREATED:20220216T171831Z
LAST-MODIFIED:20220216T171831Z
UID:10000319-1645621200-1645624800@energyresearchinnovation.ca
SUMMARY:techNL/NOIA - Artificial Intelligence (AI) in Oil & Gas - Tech Perspective
DESCRIPTION:
URL:https://energyresearchinnovation.ca/event/technl-noia-artificial-intelligence-ai-in-oil-gas-tech-perspective/
CATEGORIES:External Event
END:VEVENT
END:VCALENDAR