BEGIN:VCALENDAR
VERSION:2.0
PRODID:-//Energy Research & Innovation Newfoundland & Labrador - ECPv6.15.19//NONSGML v1.0//EN
CALSCALE:GREGORIAN
METHOD:PUBLISH
X-ORIGINAL-URL:https://energyresearchinnovation.ca
X-WR-CALDESC:Events for Energy Research & Innovation Newfoundland & Labrador
REFRESH-INTERVAL;VALUE=DURATION:PT1H
X-Robots-Tag:noindex
X-PUBLISHED-TTL:PT1H
BEGIN:VTIMEZONE
TZID:America/Edmonton
BEGIN:DAYLIGHT
TZOFFSETFROM:-0700
TZOFFSETTO:-0600
TZNAME:MDT
DTSTART:20210314T090000
END:DAYLIGHT
BEGIN:STANDARD
TZOFFSETFROM:-0600
TZOFFSETTO:-0700
TZNAME:MST
DTSTART:20211107T080000
END:STANDARD
BEGIN:DAYLIGHT
TZOFFSETFROM:-0700
TZOFFSETTO:-0600
TZNAME:MDT
DTSTART:20220313T090000
END:DAYLIGHT
BEGIN:STANDARD
TZOFFSETFROM:-0600
TZOFFSETTO:-0700
TZNAME:MST
DTSTART:20221106T080000
END:STANDARD
BEGIN:DAYLIGHT
TZOFFSETFROM:-0700
TZOFFSETTO:-0600
TZNAME:MDT
DTSTART:20230312T090000
END:DAYLIGHT
BEGIN:STANDARD
TZOFFSETFROM:-0600
TZOFFSETTO:-0700
TZNAME:MST
DTSTART:20231105T080000
END:STANDARD
END:VTIMEZONE
BEGIN:VTIMEZONE
TZID:America/Halifax
BEGIN:DAYLIGHT
TZOFFSETFROM:-0400
TZOFFSETTO:-0300
TZNAME:ADT
DTSTART:20210314T060000
END:DAYLIGHT
BEGIN:STANDARD
TZOFFSETFROM:-0300
TZOFFSETTO:-0400
TZNAME:AST
DTSTART:20211107T050000
END:STANDARD
BEGIN:DAYLIGHT
TZOFFSETFROM:-0400
TZOFFSETTO:-0300
TZNAME:ADT
DTSTART:20220313T060000
END:DAYLIGHT
BEGIN:STANDARD
TZOFFSETFROM:-0300
TZOFFSETTO:-0400
TZNAME:AST
DTSTART:20221106T050000
END:STANDARD
BEGIN:DAYLIGHT
TZOFFSETFROM:-0400
TZOFFSETTO:-0300
TZNAME:ADT
DTSTART:20230312T060000
END:DAYLIGHT
BEGIN:STANDARD
TZOFFSETFROM:-0300
TZOFFSETTO:-0400
TZNAME:AST
DTSTART:20231105T050000
END:STANDARD
END:VTIMEZONE
BEGIN:VEVENT
DTSTART;TZID=America/Edmonton:20220118T110000
DTEND;TZID=America/Edmonton:20220118T120000
DTSTAMP:20260420T173726
CREATED:20211124T210501Z
LAST-MODIFIED:20211124T211815Z
UID:10000304-1642503600-1642507200@energyresearchinnovation.ca
SUMMARY:CRIN/Canada Cleantech Alliance - Cleantech Opportunities in Oil & Gas
DESCRIPTION:
URL:https://energyresearchinnovation.ca/event/crin-canada-cleantech-alliance-cleantech-opportunities-in-oil-gas/
CATEGORIES:External Event
END:VEVENT
BEGIN:VEVENT
DTSTART;TZID=America/Halifax:20220119T100000
DTEND;TZID=America/Halifax:20220119T110000
DTSTAMP:20260420T173726
CREATED:20220112T194645Z
LAST-MODIFIED:20220112T194645Z
UID:10000308-1642586400-1642590000@energyresearchinnovation.ca
SUMMARY:Maritime Energy Association - Webinar: Creating a Profitable Path to Net-Zero
DESCRIPTION:
URL:https://energyresearchinnovation.ca/event/maritime-energy-association-webinar-creating-a-profitable-path-to-net-zero/
CATEGORIES:External Event
END:VEVENT
BEGIN:VEVENT
DTSTART;TZID=America/Edmonton:20220120T110000
DTEND;TZID=America/Edmonton:20220120T130000
DTSTAMP:20260420T173726
CREATED:20220112T194325Z
LAST-MODIFIED:20220112T194325Z
UID:10000307-1642676400-1642683600@energyresearchinnovation.ca
SUMMARY:CRIN/Canada Cleantech Alliance (CCTA) - The Cleantech Start-Up Cycle
DESCRIPTION:
URL:https://energyresearchinnovation.ca/event/crin-canada-cleantech-alliance-ccta-the-cleantech-start-up-cycle/
CATEGORIES:External Event
END:VEVENT
BEGIN:VEVENT
DTSTART;TZID=America/Halifax:20220127T100000
DTEND;TZID=America/Halifax:20220127T120000
DTSTAMP:20260420T173726
CREATED:20220112T194938Z
LAST-MODIFIED:20220112T194938Z
UID:10000309-1643277600-1643284800@energyresearchinnovation.ca
SUMMARY:Maritime Energy Association - AGM (Members Only Event)
DESCRIPTION:
URL:https://energyresearchinnovation.ca/event/maritime-energy-association-agm-members-only-event/
CATEGORIES:External Event
END:VEVENT
END:VCALENDAR